
BEGIN:VCALENDAR
VERSION:2.0
PRODID:-//Train Mountain - ECPv6.15.20//NONSGML v1.0//EN
CALSCALE:GREGORIAN
METHOD:PUBLISH
X-ORIGINAL-URL:https://trainmountain.org
X-WR-CALDESC:Events for Train Mountain
REFRESH-INTERVAL;VALUE=DURATION:PT1H
X-Robots-Tag:noindex
X-PUBLISHED-TTL:PT1H
BEGIN:VTIMEZONE
TZID:America/Los_Angeles
BEGIN:DAYLIGHT
TZOFFSETFROM:-0800
TZOFFSETTO:-0700
TZNAME:PDT
DTSTART:20240310T100000
END:DAYLIGHT
BEGIN:STANDARD
TZOFFSETFROM:-0700
TZOFFSETTO:-0800
TZNAME:PST
DTSTART:20241103T090000
END:STANDARD
BEGIN:DAYLIGHT
TZOFFSETFROM:-0800
TZOFFSETTO:-0700
TZNAME:PDT
DTSTART:20250309T100000
END:DAYLIGHT
BEGIN:STANDARD
TZOFFSETFROM:-0700
TZOFFSETTO:-0800
TZNAME:PST
DTSTART:20251102T090000
END:STANDARD
BEGIN:DAYLIGHT
TZOFFSETFROM:-0800
TZOFFSETTO:-0700
TZNAME:PDT
DTSTART:20260308T100000
END:DAYLIGHT
BEGIN:STANDARD
TZOFFSETFROM:-0700
TZOFFSETTO:-0800
TZNAME:PST
DTSTART:20261101T090000
END:STANDARD
BEGIN:DAYLIGHT
TZOFFSETFROM:-0800
TZOFFSETTO:-0700
TZNAME:PDT
DTSTART:20270314T100000
END:DAYLIGHT
BEGIN:STANDARD
TZOFFSETFROM:-0700
TZOFFSETTO:-0800
TZNAME:PST
DTSTART:20271107T090000
END:STANDARD
BEGIN:DAYLIGHT
TZOFFSETFROM:-0800
TZOFFSETTO:-0700
TZNAME:PDT
DTSTART:20280312T100000
END:DAYLIGHT
BEGIN:STANDARD
TZOFFSETFROM:-0700
TZOFFSETTO:-0800
TZNAME:PST
DTSTART:20281105T090000
END:STANDARD
END:VTIMEZONE
BEGIN:VEVENT
DTSTART;TZID=America/Los_Angeles:20250524T020000
DTEND;TZID=America/Los_Angeles:20250601T225900
DTSTAMP:20260425T195849
CREATED:20240504T050454Z
LAST-MODIFIED:20241114T020751Z
UID:28233-1748052000-1748818740@trainmountain.org
SUMMARY:Narrow Gauge Meet
DESCRIPTION:Narrow Gauge Meet\n				\n			\n				\n				\n				\n				\n				\n				\n				\n					$150.00 \n\n				\n			\n				\n				\n				\n				\n				\n				\n				\n					\n	\n	\n		\n    Registration\n    Meet fee cost is determined by the number of adults attending the entire event.  Membership at Train Mountain is required to attend meets.  Those attending only the work portion of the week (which is generally the first half of the week) do not need to register.  Members may bring guests to a meet - the cost is the same for guests as it is for members.Any accompanied children under 18 years of age are free.\n\nCamping fees need to be added to the shopping cart separately.\n\nMember (+$50.00)\n\n\n	\n        Add another member    \n    \n	    Delete    \n    \n\nGuest (+$50.00)\n\n\n	\n        Add another guest    \n    \n	    Delete    \n    \n\nChildren or GrandchildrenMeet Year\n    This registration is for calendar year Meet Year\n\n\n        \n        Product total\n        \n    \n    \n        Options total\n        \n    \n        \n        Grand total\n        \n    \n\n		\n		Narrow Gauge Meet quantity\n	\n	\n\n		Add to cart\n\n			\n\n	\n\n				\n			\n				\n				\n				\n				\n				\n				\n				\n					\n				\n			\n				\n				\n				\n				\n				\n				\n				\n					\n\n	\n	\n		SKU: POS-AllMeets\n\n	\n	Category: POS
URL:https://trainmountain.org/event/narrow-gauge-meet/
LOCATION:Train Mountain Railroad Museum\, 36941 S. Chiloquin Rd.\, Chiloquin\, CA\, 97624\, United States
CATEGORIES:Meets-Category
ATTACH;FMTTYPE=image/jpeg:https://trainmountain.org/wp-content/uploads/2024/03/DJI_0348-scaled.jpg
END:VEVENT
BEGIN:VEVENT
DTSTART;TZID=America/Los_Angeles:20250614T040000
DTEND;TZID=America/Los_Angeles:20250618T225900
DTSTAMP:20260425T195849
CREATED:20240924T195241Z
LAST-MODIFIED:20241114T020759Z
UID:30477-1749873600-1750287540@trainmountain.org
SUMMARY:Triennial Work Week
DESCRIPTION:Hot August Nights Meet\n				\n			\n				\n				\n				\n				\n				\n				\n				\n					\n	\n	\n		\n    Registration\n    Meet fee cost is determined by the number of adults attending the entire event.  Membership at Train Mountain is required to attend meets.  Those attending only the work portion of the week (which is generally the first half of the week) do not need to register.  Members may bring guests to a meet - the cost is the same for guests as it is for members.Any accompanied children under 18 years of age are free.\n\nCamping fees need to be added to the shopping cart separately.\n\nMember (+$50.00)\n\n\n	\n        Add another member    \n    \n	    Delete    \n    \n\nGuest (+$50.00)\n\n\n	\n        Add another guest    \n    \n	    Delete    \n    \n\nChildren or GrandchildrenMeet Year\n    This registration is for calendar year Meet Year\n\n\n        \n        Product total\n        \n    \n    \n        Options total\n        \n    \n        \n        Grand total\n        \n    \n\n		\n		Hot August Nights Meet quantity\n	\n	\n\n		Add to cart\n\n			\n\n	\n\n				\n			\n				\n				\n				\n				\n				\n				\n				\n					\n\n	\n	\n		SKU: Meet-HotAugustNights\n\n	\n	Category: Meets
URL:https://trainmountain.org/event/triennial-work-week/
CATEGORIES:Meets-Category
END:VEVENT
BEGIN:VEVENT
DTSTART;TZID=America/Los_Angeles:20250621T010000
DTEND;TZID=America/Los_Angeles:20250629T225900
DTSTAMP:20260425T195849
CREATED:20240924T195354Z
LAST-MODIFIED:20241114T020807Z
UID:30481-1750467600-1751237940@trainmountain.org
SUMMARY:2025 Triennial
DESCRIPTION:Hot August Nights Meet\n				\n			\n				\n				\n				\n				\n				\n				\n				\n					\n	\n	\n		\n    Registration\n    Meet fee cost is determined by the number of adults attending the entire event.  Membership at Train Mountain is required to attend meets.  Those attending only the work portion of the week (which is generally the first half of the week) do not need to register.  Members may bring guests to a meet - the cost is the same for guests as it is for members.Any accompanied children under 18 years of age are free.\n\nCamping fees need to be added to the shopping cart separately.\n\nMember (+$50.00)\n\n\n	\n        Add another member    \n    \n	    Delete    \n    \n\nGuest (+$50.00)\n\n\n	\n        Add another guest    \n    \n	    Delete    \n    \n\nChildren or GrandchildrenMeet Year\n    This registration is for calendar year Meet Year\n\n\n        \n        Product total\n        \n    \n    \n        Options total\n        \n    \n        \n        Grand total\n        \n    \n\n		\n		Hot August Nights Meet quantity\n	\n	\n\n		Add to cart\n\n			\n\n	\n\n				\n			\n				\n				\n				\n				\n				\n				\n				\n					\n\n	\n	\n		SKU: Meet-HotAugustNights\n\n	\n	Category: Meets
URL:https://trainmountain.org/event/2025-triennial/
CATEGORIES:Meets-Category
END:VEVENT
BEGIN:VEVENT
DTSTART;TZID=America/Los_Angeles:20250726T020000
DTEND;TZID=America/Los_Angeles:20250803T225900
DTSTAMP:20260425T195849
CREATED:20240508T180821Z
LAST-MODIFIED:20241114T020814Z
UID:28596-1753495200-1754261940@trainmountain.org
SUMMARY:Operations Meet
DESCRIPTION:Operations Meet\n				\n			\n				\n				\n				\n				\n				\n				\n				\n					\n	\n	\n		\n    Registration\n    Meet fee cost is determined by the number of adults attending the entire event.  Membership at Train Mountain is required to attend meets.  Those attending only the work portion of the week (which is generally the first half of the week) do not need to register.  Members may bring guests to a meet - the cost is the same for guests as it is for members.Any accompanied children under 18 years of age are free.\n\nCamping fees need to be added to the shopping cart separately.\n\nMember (+$50.00)\n\n\n	\n        Add another member    \n    \n	    Delete    \n    \n\nGuest (+$50.00)\n\n\n	\n        Add another guest    \n    \n	    Delete    \n    \n\nChildren or GrandchildrenMeet Year\n    This registration is for calendar year Meet Year\n\n\n        \n        Product total\n        \n    \n    \n        Options total\n        \n    \n        \n        Grand total\n        \n    \n\n		\n		Operations Meet quantity\n	\n	\n\n		Add to cart\n\n			\n\n	\n\n				\n			\n				\n				\n				\n				\n				\n				\n				\n					\n\n	\n	\n		SKU: POS-AllMeets\n\n	\n	Category: POS
URL:https://trainmountain.org/event/operations-meet/
LOCATION:Train Mountain Railroad Museum\, 36941 S. Chiloquin Rd.\, Chiloquin\, CA\, 97624\, United States
CATEGORIES:Meets-Category
ATTACH;FMTTYPE=image/jpeg:https://trainmountain.org/wp-content/uploads/2024/05/IMG_3422-scaled.jpg
END:VEVENT
BEGIN:VEVENT
DTSTART;TZID=America/Los_Angeles:20250830T020000
DTEND;TZID=America/Los_Angeles:20250907T225900
DTSTAMP:20260425T195849
CREATED:20240508T181600Z
LAST-MODIFIED:20241114T020823Z
UID:28605-1756519200-1757285940@trainmountain.org
SUMMARY:Big Build Meet
DESCRIPTION:Big Build Meet\n				\n			\n				\n				\n				\n				\n				\n				\n				\n					\n	\n	\n		\n    Registration\n    Meet fee cost is determined by the number of adults attending the entire event.  Membership at Train Mountain is required to attend meets.  Those attending only the work portion of the week (which is generally the first half of the week) do not need to register.  Members may bring guests to a meet - the cost is the same for guests as it is for members.Any accompanied children under 18 years of age are free.\n\nCamping fees need to be added to the shopping cart separately.\n\nMember (+$50.00)\n\n\n	\n        Add another member    \n    \n	    Delete    \n    \n\nGuest (+$50.00)\n\n\n	\n        Add another guest    \n    \n	    Delete    \n    \n\nChildren or GrandchildrenMeet Year\n    This registration is for calendar year Meet Year\n\n\n        \n        Product total\n        \n    \n    \n        Options total\n        \n    \n        \n        Grand total\n        \n    \n\n		\n		Big Build Meet quantity\n	\n	\n\n		Add to cart\n\n			\n\n	\n\n				\n			\n				\n				\n				\n				\n				\n				\n				\n					\n\n	\n	\n		SKU: Meet-BigBuild\n\n	\n	Category: Meets
URL:https://trainmountain.org/event/big-build-meet/
LOCATION:Train Mountain Railroad Museum\, 36941 S. Chiloquin Rd.\, Chiloquin\, CA\, 97624\, United States
CATEGORIES:Meets-Category
ATTACH;FMTTYPE=image/jpeg:https://trainmountain.org/wp-content/uploads/2024/05/IMG_2079.jpg
END:VEVENT
BEGIN:VEVENT
DTSTART;TZID=America/Los_Angeles:20251010T020000
DTEND;TZID=America/Los_Angeles:20251013T225900
DTSTAMP:20260425T195849
CREATED:20240508T181831Z
LAST-MODIFIED:20250927T191850Z
UID:28609-1760061600-1760396340@trainmountain.org
SUMMARY:Fall Colors Meet
DESCRIPTION:Home  /  Meets  /  Fall Colors Meet\n				\n			\n			\n				\n				\n				\n				\n			\n				\n				\n			\n				\n				\n				\n				\n				\n				\n				\n				\n				\n				\n				\n				\n				\n				\n				\n				\n				\n				\n				\n				\n					\n	\n			\n\n\n				\n			\n			\n				\n				\n				\n				\n				\n				\n				\n				\n				\n				\n				\n				\n					\n		Fall Colors Meet\n				\n			\n				\n				\n				\n				\n				\n				\n				\n					\n	\n	\n		\n    Registration\n    Meet fee cost is determined by the number of adults attending the entire event.  Membership at Train Mountain is required to attend meets.  Those attending only the work portion of the week (which is generally the first half of the week) do not need to register.  Members may bring guests to a meet - the cost is the same for guests as it is for members.Any accompanied children under 18 years of age are free.\n\nCamping fees need to be added to the shopping cart separately.\n\nMember (+$50.00)\n\n\n	\n        Add another member    \n    \n	    Delete    \n    \n\nGuest (+$50.00)\n\n\n	\n        Add another guest    \n    \n	    Delete    \n    \n\nChildren or GrandchildrenMeet Year\n    This registration is for calendar year Meet Year\n\n\n        \n        Product total\n        \n    \n    \n        Options total\n        \n    \n        \n        Grand total\n        \n    \n\n		\n		Fall Colors Meet quantity\n	\n	\n\n		Add to cart\n\n			\n\n	\n\n				\n			\n				\n				\n				\n				\n				\n				\n				\n					\n\n	\n	\n		SKU: Meet-FallColors\n\n	\n	Category: Meets
URL:https://trainmountain.org/event/fall-colors-meet/
LOCATION:Train Mountain Railroad Museum\, 36941 S. Chiloquin Rd.\, Chiloquin\, CA\, 97624\, United States
CATEGORIES:Meets-Category
ATTACH;FMTTYPE=image/jpeg:https://trainmountain.org/wp-content/uploads/2024/03/DJI_0425-scaled.jpg
END:VEVENT
BEGIN:VEVENT
DTSTART;TZID=America/Los_Angeles:20260116T080000
DTEND;TZID=America/Los_Angeles:20260119T080000
DTSTAMP:20260425T195849
CREATED:20250927T190327Z
LAST-MODIFIED:20250927T190456Z
UID:32726-1768550400-1768809600@trainmountain.org
SUMMARY:2026 Polar Bear Meet
DESCRIPTION:
URL:https://trainmountain.org/event/2026-polar-bear-meet/
CATEGORIES:Meets-Category
END:VEVENT
BEGIN:VEVENT
DTSTART;TZID=America/Los_Angeles:20260425T080000
DTEND;TZID=America/Los_Angeles:20260503T080000
DTSTAMP:20260425T195849
CREATED:20250927T190712Z
LAST-MODIFIED:20250927T192452Z
UID:32728-1777104000-1777795200@trainmountain.org
SUMMARY:2026 Spring Awakening Meet
DESCRIPTION:
URL:https://trainmountain.org/event/2026-spring-awakening-meet/
CATEGORIES:Meets-Category
END:VEVENT
BEGIN:VEVENT
DTSTART;TZID=America/Los_Angeles:20260523T080000
DTEND;TZID=America/Los_Angeles:20260531T170000
DTSTAMP:20260425T195849
CREATED:20250927T190800Z
LAST-MODIFIED:20250927T193211Z
UID:32730-1779523200-1780246800@trainmountain.org
SUMMARY:2026 Narrow Gauge Meet
DESCRIPTION:
URL:https://trainmountain.org/event/2026-narrow-gauge-meet/
CATEGORIES:Meets-Category
END:VEVENT
BEGIN:VEVENT
DTSTART;TZID=America/Los_Angeles:20260620T080000
DTEND;TZID=America/Los_Angeles:20260628T170000
DTSTAMP:20260425T195849
CREATED:20250927T190908Z
LAST-MODIFIED:20250927T193146Z
UID:32732-1781942400-1782666000@trainmountain.org
SUMMARY:2026 Operations Meet
DESCRIPTION:
URL:https://trainmountain.org/event/2026-operations-meet/
CATEGORIES:Meets-Category
END:VEVENT
BEGIN:VEVENT
DTSTART;TZID=America/Los_Angeles:20260801T080000
DTEND;TZID=America/Los_Angeles:20260809T170000
DTSTAMP:20260425T195849
CREATED:20250927T190957Z
LAST-MODIFIED:20250927T193127Z
UID:32734-1785571200-1786294800@trainmountain.org
SUMMARY:2026 Hot August Nights Meet
DESCRIPTION:
URL:https://trainmountain.org/event/2026-hot-august-nights-meet/
CATEGORIES:Meets-Category
END:VEVENT
BEGIN:VEVENT
DTSTART;TZID=America/Los_Angeles:20260905T080000
DTEND;TZID=America/Los_Angeles:20260913T170000
DTSTAMP:20260425T195849
CREATED:20250927T191043Z
LAST-MODIFIED:20250927T193039Z
UID:32736-1788595200-1789318800@trainmountain.org
SUMMARY:2026 Big Build Meet
DESCRIPTION:
URL:https://trainmountain.org/event/2026-big-build-meet/
CATEGORIES:Meets-Category
END:VEVENT
BEGIN:VEVENT
DTSTART;TZID=America/Los_Angeles:20261009T080000
DTEND;TZID=America/Los_Angeles:20261012T170000
DTSTAMP:20260425T195849
CREATED:20250927T191312Z
LAST-MODIFIED:20250927T192900Z
UID:32738-1791532800-1791824400@trainmountain.org
SUMMARY:2026 Fall Colors Meet
DESCRIPTION:
URL:https://trainmountain.org/event/2026-fall-colors-meet/
CATEGORIES:Meets-Category
END:VEVENT
BEGIN:VEVENT
DTSTART;TZID=America/Los_Angeles:20270115T080000
DTEND;TZID=America/Los_Angeles:20270118T170000
DTSTAMP:20260425T195849
CREATED:20250927T193456Z
LAST-MODIFIED:20250927T193456Z
UID:32742-1800000000-1800291600@trainmountain.org
SUMMARY:2027 Polar Bear Meet
DESCRIPTION:
URL:https://trainmountain.org/event/2027-polar-bear-meet/
CATEGORIES:Meets-Category
END:VEVENT
BEGIN:VEVENT
DTSTART;TZID=America/Los_Angeles:20270501T080000
DTEND;TZID=America/Los_Angeles:20270509T170000
DTSTAMP:20260425T195849
CREATED:20250927T193557Z
LAST-MODIFIED:20250927T193557Z
UID:32744-1809158400-1809882000@trainmountain.org
SUMMARY:2027 Spring Awakening Meet
DESCRIPTION:
URL:https://trainmountain.org/event/2027-spring-awakening-meet/
CATEGORIES:Meets-Category
END:VEVENT
BEGIN:VEVENT
DTSTART;TZID=America/Los_Angeles:20270529T080000
DTEND;TZID=America/Los_Angeles:20270606T170000
DTSTAMP:20260425T195849
CREATED:20250927T193647Z
LAST-MODIFIED:20250927T193647Z
UID:32746-1811577600-1812301200@trainmountain.org
SUMMARY:2027 Narrow Gauge Meet
DESCRIPTION:
URL:https://trainmountain.org/event/2027-narrow-gauge-meet/
CATEGORIES:Meets-Category
END:VEVENT
BEGIN:VEVENT
DTSTART;TZID=America/Los_Angeles:20270619T080000
DTEND;TZID=America/Los_Angeles:20270627T170000
DTSTAMP:20260425T195849
CREATED:20250927T193922Z
LAST-MODIFIED:20250927T193922Z
UID:32748-1813392000-1814115600@trainmountain.org
SUMMARY:2027 Operations Meet
DESCRIPTION:
URL:https://trainmountain.org/event/2027-operations-meet/
CATEGORIES:Meets-Category
END:VEVENT
BEGIN:VEVENT
DTSTART;TZID=America/Los_Angeles:20270731T080000
DTEND;TZID=America/Los_Angeles:20270808T170000
DTSTAMP:20260425T195849
CREATED:20250927T194011Z
LAST-MODIFIED:20250927T194011Z
UID:32750-1817020800-1817744400@trainmountain.org
SUMMARY:2027 Hot August Nights Meet
DESCRIPTION:
URL:https://trainmountain.org/event/2027-hot-august-nights-meet/
CATEGORIES:Meets-Category
END:VEVENT
BEGIN:VEVENT
DTSTART;TZID=America/Los_Angeles:20270904T080000
DTEND;TZID=America/Los_Angeles:20270912T170000
DTSTAMP:20260425T195849
CREATED:20250927T194048Z
LAST-MODIFIED:20250927T194048Z
UID:32752-1820044800-1820768400@trainmountain.org
SUMMARY:2027 Big Build Meet
DESCRIPTION:
URL:https://trainmountain.org/event/2027-big-build-meet/
CATEGORIES:Meets-Category
END:VEVENT
BEGIN:VEVENT
DTSTART;TZID=America/Los_Angeles:20271008T080000
DTEND;TZID=America/Los_Angeles:20271011T170000
DTSTAMP:20260425T195849
CREATED:20250927T194123Z
LAST-MODIFIED:20250927T194123Z
UID:32754-1822982400-1823274000@trainmountain.org
SUMMARY:2027 Fall Colors Meet
DESCRIPTION:
URL:https://trainmountain.org/event/2027-fall-colors-meet/
CATEGORIES:Meets-Category
END:VEVENT
END:VCALENDAR